BEGIN:VCALENDAR
VERSION:2.0
PRODID:-//Intand Corporation//Tandem//EN
METHOD:PUBLISH
BEGIN:VEVENT
DTSTAMP:20260419T230935Z
DTSTART:20220310T223000Z
DTEND:20220311T000000Z
TRANSP:TRANSPARENT
PRIORITY:0
SUMMARY:Baseball\, C-Team: WMHS @ VVHS
LOCATION:Volcano Vista High
DESCRIPTION:Groups:\nVolcano Vista High Baseball C\nWest Mesa High Basebal
 l C\n\nSchools:\nWest Mesa High\nVolcano Vista High\n\nLocation:\nVolcano 
 Vista High\n\n
URL;VALUE=URI:http://dnhs.albuquerquenmus.tandem.co/index.php?type=view&ac
 tion=event&id=99663
CREATED:20220118T222705Z
LAST-MODIFIED:20220118T222705Z
UID:event-99663-albuquerquenmus@intand.com
END:VEVENT
END:VCALENDAR
