BEGIN:VCALENDAR
VERSION:2.0
PRODID:-//Intand Corporation//Tandem//EN
METHOD:PUBLISH
BEGIN:VEVENT
DTSTAMP:20260419T231124Z
DTSTART:20220429T220000Z
DTEND:20220430T000000Z
TRANSP:TRANSPARENT
PRIORITY:0
SUMMARY:[Cancelled] Baseball\, JV: Rio Rancho HS @ VVHS
LOCATION:Volcano Vista High
DESCRIPTION:Groups:\nVolcano Vista High Baseball Boys JV\n\nSchools:\nVolc
 ano Vista High\nRio Rancho High School\n\nLocation:\nVolcano Vista High\n\
 n
URL;VALUE=URI:http://dnhs.albuquerquenmus.tandem.co/index.php?type=view&ac
 tion=event&id=99661
CREATED:20220118T222330Z
LAST-MODIFIED:20220216T163234Z
UID:event-99661-albuquerquenmus@intand.com
END:VEVENT
END:VCALENDAR
