BEGIN:VCALENDAR
VERSION:2.0
PRODID:-//Intand Corporation//Tandem//EN
METHOD:PUBLISH
BEGIN:VEVENT
DTSTAMP:20260419T230809Z
DTSTART:20220405T220000Z
DTEND:20220406T000000Z
TRANSP:TRANSPARENT
PRIORITY:0
SUMMARY:Baseball\, JV: Cleveland HS @ VVHS
LOCATION:Volcano Vista High
DESCRIPTION:Groups:\nVolcano Vista High Baseball Boys JV\n\nSchools:\nV Su
 e Cleveland High School\nVolcano Vista High\n\nLocation:\nVolcano Vista Hi
 gh\n\n
URL;VALUE=URI:http://dnhs.albuquerquenmus.tandem.co/index.php?type=view&ac
 tion=event&id=99656
CREATED:20220118T221701Z
LAST-MODIFIED:20220118T221701Z
UID:event-99656-albuquerquenmus@intand.com
END:VEVENT
END:VCALENDAR
