BEGIN:VCALENDAR
VERSION:2.0
PRODID:-//Intand Corporation//Tandem//EN
METHOD:PUBLISH
BEGIN:VEVENT
DTSTAMP:20260419T231123Z
DTSTART:20220325T220000Z
DTEND:20220325T233000Z
TRANSP:TRANSPARENT
PRIORITY:0
SUMMARY:[Cancelled] Baseball\, C-Team: RGHS @ VHS
LOCATION:Valley High
DESCRIPTION:Groups:\nRio Grande High Baseball C\nValley High Baseball C\n\
 nSchools:\nValley High\nRio Grande High\n\nLocation:\nValley High\n\n
URL;VALUE=URI:http://dnhs.albuquerquenmus.tandem.co/index.php?type=view&ac
 tion=event&id=99614
CREATED:20220118T211009Z
LAST-MODIFIED:20220217T221710Z
UID:event-99614-albuquerquenmus@intand.com
END:VEVENT
END:VCALENDAR
