BEGIN:VCALENDAR
VERSION:2.0
PRODID:-//Intand Corporation//Tandem//EN
METHOD:PUBLISH
BEGIN:VEVENT
DTSTAMP:20260419T231143Z
DTSTART:20220316T210000Z
DTEND:20220317T000000Z
TRANSP:TRANSPARENT
PRIORITY:0
SUMMARY:Metro Baseball Tournament
LOCATION:West Mesa High\, Volcano Vista High\, Sandia High\, Manzano High\
 , La Cueva High\, Highland High\, Eldorado High\, Del Norte High\, Cibola 
 High\, Atrisco Heritage Academy\, Albuquerque High\, Valley High
DESCRIPTION:Groups:\nAlbuquerque High Baseball Varsity\nAtrisco Heritage A
 cademy Baseball Varsity\nCibola High Baseball Varsity\nDel Norte High Base
 ball Varsity\nEldorado High Baseball Varsity\nHighland High Baseball Boys 
 Varsity\nLa Cueva High Baseball Boys Varsity\nManzano High Baseball Boys V
 arsity\nRio Grande High Baseball Boys Varsity\nSandia High Baseball Boys V
 arsity\nValley High Baseball Boys Varsity\nVolcano Vista High Baseball Boy
 s Varsity\nWest Mesa High Baseball Boys Varsity\n\nSchools:\nAtrisco Herit
 age Academy\nCibola High\nLa Cueva High\nValley High\nSandia High\nRio Gra
 nde High\nAlbuquerque High\nEldorado High\nHighland High\nManzano High\nWe
 st Mesa High\nVolcano Vista High\nDel Norte High\n\nLocations:\nWest Mesa 
 High\nVolcano Vista High\nSandia High\nManzano High\nLa Cueva High\nHighla
 nd High\nEldorado High\nDel Norte High\nCibola High\nAtrisco Heritage Acad
 emy\nAlbuquerque High\nValley High\n\n
URL;VALUE=URI:http://dnhs.albuquerquenmus.tandem.co/index.php?type=view&ac
 tion=event&id=99527
CREATED:20220116T190057Z
LAST-MODIFIED:20220116T190057Z
UID:event-99527-albuquerquenmus@intand.com
END:VEVENT
END:VCALENDAR
