BEGIN:VCALENDAR
VERSION:2.0
PRODID:-//Intand Corporation//Tandem//EN
METHOD:PUBLISH
BEGIN:VEVENT
DTSTAMP:20260419T231013Z
DTSTART:20220418T220000Z
DTEND:20220418T233000Z
TRANSP:TRANSPARENT
PRIORITY:0
SUMMARY:Baseball\, C-Team: Rio Rancho HS @ EHS
LOCATION:Eldorado High
DESCRIPTION:Groups:\nEldorado High Baseball C\n\nSchools:\nEldorado High\n
 Rio Rancho High School\n\nLocation:\nEldorado High\n\n
URL;VALUE=URI:http://dnhs.albuquerquenmus.tandem.co/index.php?type=view&ac
 tion=event&id=99496
CREATED:20220114T210846Z
LAST-MODIFIED:20220121T184955Z
UID:event-99496-albuquerquenmus@intand.com
END:VEVENT
END:VCALENDAR
