BEGIN:VCALENDAR
VERSION:2.0
PRODID:-//Intand Corporation//Tandem//EN
METHOD:PUBLISH
BEGIN:VEVENT
DTSTAMP:20260419T231008Z
DTSTART:20220422T220000Z
DTEND:20220423T000000Z
TRANSP:TRANSPARENT
PRIORITY:0
SUMMARY:Baseball\, JV: DNHS @ VHS
LOCATION:Valley High
DESCRIPTION:Groups:\nDel Norte High Baseball  JV\nValley High Baseball Boy
 s JV\n\nSchools:\nValley High\nDel Norte High\n\nLocation:\nValley High\n\
 n
URL;VALUE=URI:http://dnhs.albuquerquenmus.tandem.co/index.php?type=view&ac
 tion=event&id=99469
CREATED:20220114T203336Z
LAST-MODIFIED:20220114T203336Z
UID:event-99469-albuquerquenmus@intand.com
END:VEVENT
END:VCALENDAR
