BEGIN:VCALENDAR
VERSION:2.0
PRODID:-//Intand Corporation//Tandem//EN
METHOD:PUBLISH
BEGIN:VEVENT
DTSTAMP:20260420T031515Z
DTSTART:20220328T210000Z
DTEND:20220328T230000Z
TRANSP:TRANSPARENT
PRIORITY:0
SUMMARY:Baseball\, JV: Gallup HS @ DNHS
LOCATION:Del Norte High
DESCRIPTION:Groups:\nDel Norte High Baseball  JV\n\nSchools:\nDel Norte Hi
 gh\nGallup High\n\nLocation:\nDel Norte High\n\n
URL;VALUE=URI:http://dnhs.albuquerquenmus.tandem.co/index.php?type=view&ac
 tion=event&id=99461
CREATED:20220114T202643Z
LAST-MODIFIED:20220121T181447Z
UID:event-99461-albuquerquenmus@intand.com
END:VEVENT
END:VCALENDAR
