BEGIN:VCALENDAR
VERSION:2.0
PRODID:-//Intand Corporation//Tandem//EN
METHOD:PUBLISH
BEGIN:VEVENT
DTSTAMP:20260419T230820Z
DTSTART:20220302T223000Z
DTEND:20220303T000000Z
TRANSP:TRANSPARENT
PRIORITY:0
SUMMARY:Baseball\, C-Team: EHS @ CHS
LOCATION:Cibola High
DESCRIPTION:Groups:\nEldorado High Baseball C\nCibola High Baseball C\n\nS
 chools:\nCibola High\nEldorado High\n\nLocation:\nCibola High\n\n
URL;VALUE=URI:http://dnhs.albuquerquenmus.tandem.co/index.php?type=view&ac
 tion=event&id=99441
CREATED:20220114T190155Z
LAST-MODIFIED:20220121T173319Z
UID:event-99441-albuquerquenmus@intand.com
END:VEVENT
END:VCALENDAR
