BEGIN:VCALENDAR
VERSION:2.0
PRODID:-//Intand Corporation//Tandem//EN
METHOD:PUBLISH
BEGIN:VEVENT
DTSTAMP:20260419T231130Z
DTSTART:20220406T220000Z
DTEND:20220406T233000Z
TRANSP:TRANSPARENT
PRIORITY:0
SUMMARY:[Cancelled] Baseball\, C-Team: AHA vs LCHS
LOCATION:Atrisco Heritage Academy
DESCRIPTION:Groups:\nAtrisco Heritage Academy Baseball C\nLa Cueva High Ba
 seball C\n\nSchools:\nAtrisco Heritage Academy\nLa Cueva High\n\nLocation:
 \nAtrisco Heritage Academy\n\n
URL;VALUE=URI:http://dnhs.albuquerquenmus.tandem.co/index.php?type=view&ac
 tion=event&id=99411
CREATED:20220114T174651Z
LAST-MODIFIED:20220119T210559Z
UID:event-99411-albuquerquenmus@intand.com
END:VEVENT
END:VCALENDAR
