BEGIN:VCALENDAR
VERSION:2.0
PRODID:-//Intand Corporation//Tandem//EN
METHOD:PUBLISH
BEGIN:VEVENT
DTSTAMP:20260419T230927Z
DTSTART:20220324T220000Z
DTEND:20220324T233000Z
TRANSP:TRANSPARENT
PRIORITY:0
SUMMARY:[Cancelled] Baseball\, C-Team: WMHS @ AHA
LOCATION:Atrisco Heritage Academy
DESCRIPTION:Groups:\nWest Mesa High Baseball C\nAtrisco Heritage Academy B
 aseball C\n\nSchools:\nAtrisco Heritage Academy\nWest Mesa High\n\nLocatio
 n:\nAtrisco Heritage Academy\n\n
URL;VALUE=URI:http://dnhs.albuquerquenmus.tandem.co/index.php?type=view&ac
 tion=event&id=99407
CREATED:20220114T174410Z
LAST-MODIFIED:20220210T181441Z
UID:event-99407-albuquerquenmus@intand.com
END:VEVENT
END:VCALENDAR
