BEGIN:VCALENDAR
VERSION:2.0
PRODID:-//Intand Corporation//Tandem//EN
METHOD:PUBLISH
BEGIN:VEVENT
DTSTAMP:20260419T230813Z
DTSTART:20220307T223000Z
DTEND:20220308T000000Z
TRANSP:TRANSPARENT
PRIORITY:0
SUMMARY:[Cancelled] Baseball\, C-Team: RGHS @ AHA
LOCATION:Atrisco Heritage Academy
DESCRIPTION:Groups:\nRio Grande High Baseball C\nAtrisco Heritage Academy 
 Baseball C\n\nSchools:\nAtrisco Heritage Academy\nRio Grande High\n\nLocat
 ion:\nAtrisco Heritage Academy\n\n
URL;VALUE=URI:http://dnhs.albuquerquenmus.tandem.co/index.php?type=view&ac
 tion=event&id=99403
CREATED:20220114T174025Z
LAST-MODIFIED:20220210T180316Z
UID:event-99403-albuquerquenmus@intand.com
END:VEVENT
END:VCALENDAR
