BEGIN:VCALENDAR
VERSION:2.0
PRODID:-//Intand Corporation//Tandem//EN
METHOD:PUBLISH
BEGIN:VEVENT
DTSTAMP:20260419T231110Z
DTSTART:20220310T223000Z
DTEND:20220311T003000Z
TRANSP:TRANSPARENT
PRIORITY:0
SUMMARY:[Cancelled] Baseball\, JV: AHA @ WMHS
LOCATION:West Mesa High
DESCRIPTION:Groups:\nWest Mesa High Baseball Boys JV\nAtrisco Heritage Aca
 demy Baseball JV\n\nSchools:\nAtrisco Heritage Academy\nWest Mesa High\n\n
 Location:\nWest Mesa High\n\n
URL;VALUE=URI:http://dnhs.albuquerquenmus.tandem.co/index.php?type=view&ac
 tion=event&id=99386
CREATED:20220114T171109Z
LAST-MODIFIED:20220210T181341Z
UID:event-99386-albuquerquenmus@intand.com
END:VEVENT
END:VCALENDAR
