BEGIN:VCALENDAR
VERSION:2.0
PRODID:-//Intand Corporation//Tandem//EN
METHOD:PUBLISH
BEGIN:VEVENT
DTSTAMP:20260419T231010Z
DTSTART:20220409T180000Z
DTEND:20220409T200000Z
TRANSP:TRANSPARENT
PRIORITY:0
SUMMARY:Baseball\, JV: Capital HS @ AHS
LOCATION:Albuquerque High
DESCRIPTION:Groups:\nAlbuquerque High Baseball JV\n\nSchools:\nSanta Fe Ca
 pital High\nAlbuquerque High\n\nLocation:\nAlbuquerque High\n\n
URL;VALUE=URI:http://dnhs.albuquerquenmus.tandem.co/index.php?type=view&ac
 tion=event&id=99374
CREATED:20220114T161939Z
LAST-MODIFIED:20220121T183214Z
UID:event-99374-albuquerquenmus@intand.com
END:VEVENT
END:VCALENDAR
