BEGIN:VCALENDAR
VERSION:2.0
PRODID:-//Intand Corporation//Tandem//EN
METHOD:PUBLISH
BEGIN:VEVENT
DTSTAMP:20260419T231127Z
DTSTART:20220301T223000Z
DTEND:20220302T003000Z
TRANSP:TRANSPARENT
PRIORITY:0
SUMMARY:Baseball\, Varsity: Espanola HS @ WMHS
LOCATION:West Mesa High
DESCRIPTION:Groups:\nWest Mesa High Baseball Boys Varsity\n\nSchools:\nEsp
 anola High School\nWest Mesa High\n\nLocation:\nWest Mesa High\n\n
URL;VALUE=URI:http://dnhs.albuquerquenmus.tandem.co/index.php?type=view&ac
 tion=event&id=99312
CREATED:20220113T180443Z
LAST-MODIFIED:20220121T173239Z
UID:event-99312-albuquerquenmus@intand.com
END:VEVENT
END:VCALENDAR
