BEGIN:VCALENDAR
VERSION:2.0
PRODID:-//Intand Corporation//Tandem//EN
METHOD:PUBLISH
BEGIN:VEVENT
DTSTAMP:20260419T230950Z
DTSTART:20220405T220000Z
DTEND:20220406T000000Z
TRANSP:TRANSPARENT
PRIORITY:0
SUMMARY:[Cancelled] Baseball\, Varsity: Valencia HS @ SHS
LOCATION:Sandia High
DESCRIPTION:Groups:\nSandia High Baseball Boys Varsity\n\nSchools:\nSandia
  High\nValencia High\n\nLocation:\nSandia High\n\n
URL;VALUE=URI:http://dnhs.albuquerquenmus.tandem.co/index.php?type=view&ac
 tion=event&id=99287
CREATED:20220113T173329Z
LAST-MODIFIED:20220121T195834Z
UID:event-99287-albuquerquenmus@intand.com
END:VEVENT
END:VCALENDAR
