BEGIN:VCALENDAR
VERSION:2.0
PRODID:-//Intand Corporation//Tandem//EN
METHOD:PUBLISH
BEGIN:VEVENT
DTSTAMP:20260419T231015Z
DTSTART:20220302T010000Z
DTEND:20220302T030000Z
TRANSP:TRANSPARENT
PRIORITY:0
SUMMARY:Baseball\, Varsity: VHS @ RGHS
LOCATION:Rio Grande High
DESCRIPTION:Groups:\nValley High Baseball Boys Varsity\nRio Grande High Ba
 seball Boys Varsity\n\nSchools:\nValley High\nRio Grande High\n\nLocation:
 \nRio Grande High\n\n
URL;VALUE=URI:http://dnhs.albuquerquenmus.tandem.co/index.php?type=view&ac
 tion=event&id=99269
CREATED:20220113T161227Z
LAST-MODIFIED:20220124T200134Z
UID:event-99269-albuquerquenmus@intand.com
END:VEVENT
END:VCALENDAR
