BEGIN:VCALENDAR
VERSION:2.0
PRODID:-//Intand Corporation//Tandem//EN
METHOD:PUBLISH
BEGIN:VEVENT
DTSTAMP:20260419T230841Z
DTSTART:20220410T000000Z
DTEND:20220410T013000Z
TRANSP:TRANSPARENT
PRIORITY:0
SUMMARY:Baseball\, Varsity: MHS @ RGHS
LOCATION:Rio Grande High
DESCRIPTION:Groups:\nManzano High Baseball Boys Varsity\nRio Grande High B
 aseball Boys Varsity\n\nSchools:\nRio Grande High\nManzano High\n\nLocatio
 n:\nRio Grande High\n\n
URL;VALUE=URI:http://dnhs.albuquerquenmus.tandem.co/index.php?type=view&ac
 tion=event&id=99264
CREATED:20220113T160540Z
LAST-MODIFIED:20220113T160540Z
UID:event-99264-albuquerquenmus@intand.com
END:VEVENT
END:VCALENDAR
