BEGIN:VCALENDAR
VERSION:2.0
PRODID:-//Intand Corporation//Tandem//EN
METHOD:PUBLISH
BEGIN:VEVENT
DTSTAMP:20260419T231124Z
DTSTART:20220305T170000Z
DTEND:20220305T190000Z
TRANSP:TRANSPARENT
PRIORITY:0
SUMMARY:Baseball\, Varsity: Espanola HS @ HHS
LOCATION:Highland High
DESCRIPTION:Groups:\nHighland High Baseball Boys Varsity\n\nSchools:\nEspa
 nola High School\nHighland High\n\nLocation:\nHighland High\n\n
URL;VALUE=URI:http://dnhs.albuquerquenmus.tandem.co/index.php?type=view&ac
 tion=event&id=99214
CREATED:20220111T214656Z
LAST-MODIFIED:20220121T174230Z
UID:event-99214-albuquerquenmus@intand.com
END:VEVENT
END:VCALENDAR
