BEGIN:VCALENDAR
VERSION:2.0
PRODID:-//Intand Corporation//Tandem//EN
METHOD:PUBLISH
BEGIN:VEVENT
DTSTAMP:20260419T231016Z
DTSTART:20220405T220000Z
DTEND:20220406T000000Z
TRANSP:TRANSPARENT
PRIORITY:0
SUMMARY:Baseball\, Varsity: DNHS @ VHS
LOCATION:Valley High
DESCRIPTION:Groups:\nDel Norte High Baseball Varsity\nValley High Baseball
  Boys Varsity\n\nSchools:\nValley High\nDel Norte High\n\nLocation:\nValle
 y High\n\n
URL;VALUE=URI:http://dnhs.albuquerquenmus.tandem.co/index.php?type=view&ac
 tion=event&id=99190
CREATED:20220111T211239Z
LAST-MODIFIED:20220111T211239Z
UID:event-99190-albuquerquenmus@intand.com
END:VEVENT
END:VCALENDAR
