BEGIN:VCALENDAR
VERSION:2.0
PRODID:-//Intand Corporation//Tandem//EN
METHOD:PUBLISH
BEGIN:VEVENT
DTSTAMP:20260420T001823Z
DTSTART:20220415T220000Z
DTEND:20220416T000000Z
TRANSP:TRANSPARENT
PRIORITY:0
SUMMARY:Baseball\, Varsity: Bernalillo HS @ DNHS
LOCATION:Del Norte High
DESCRIPTION:Groups:\nDel Norte High Baseball Varsity\n\nSchools:\nBernalil
 lo High School\nDel Norte High\n\nLocation:\nDel Norte High\n\n
URL;VALUE=URI:http://dnhs.albuquerquenmus.tandem.co/index.php?type=view&ac
 tion=event&id=99186
CREATED:20220111T210752Z
LAST-MODIFIED:20220121T184430Z
UID:event-99186-albuquerquenmus@intand.com
END:VEVENT
END:VCALENDAR
