BEGIN:VCALENDAR
VERSION:2.0
PRODID:-//Intand Corporation//Tandem//EN
METHOD:PUBLISH
BEGIN:VEVENT
DTSTAMP:20260419T230820Z
DTSTART:20220312T203000Z
DTEND:20220312T223000Z
TRANSP:TRANSPARENT
PRIORITY:0
SUMMARY:Baseball\, Varsity: Grants HS @ DNHS
LOCATION:Del Norte High
DESCRIPTION:Groups:\nDel Norte High Baseball Varsity\n\nSchools:\nDel Nort
 e High\nGrants High\n\nLocation:\nDel Norte High\n\n
URL;VALUE=URI:http://dnhs.albuquerquenmus.tandem.co/index.php?type=view&ac
 tion=event&id=99181
CREATED:20220111T204120Z
LAST-MODIFIED:20220121T175603Z
UID:event-99181-albuquerquenmus@intand.com
END:VEVENT
END:VCALENDAR
