BEGIN:VCALENDAR
VERSION:2.0
PRODID:-//Intand Corporation//Tandem//EN
METHOD:PUBLISH
BEGIN:VEVENT
DTSTAMP:20260419T230839Z
DTSTART:20220226T200000Z
DTEND:20220226T220000Z
TRANSP:TRANSPARENT
PRIORITY:0
SUMMARY:[Cancelled] Baseball\, Varsity: WMHS @ CHS
LOCATION:Cibola High
DESCRIPTION:Groups:\nWest Mesa High Baseball Boys Varsity\nCibola High Bas
 eball Varsity\n\nSchools:\nCibola High\nWest Mesa High\n\nLocation:\nCibol
 a High\n\n
URL;VALUE=URI:http://dnhs.albuquerquenmus.tandem.co/index.php?type=view&ac
 tion=event&id=99154
CREATED:20220111T161805Z
LAST-MODIFIED:20220225T214817Z
UID:event-99154-albuquerquenmus@intand.com
END:VEVENT
END:VCALENDAR
