BEGIN:VCALENDAR
VERSION:2.0
PRODID:-//Intand Corporation//Tandem//EN
METHOD:PUBLISH
BEGIN:VEVENT
DTSTAMP:20260420T031439Z
DTSTART:20220426T220000Z
DTEND:20220427T000000Z
TRANSP:TRANSPARENT
PRIORITY:0
SUMMARY:Baseball\, Varsity: CHS @ AHA
LOCATION:Atrisco Heritage Academy
DESCRIPTION:Groups:\nCibola High Baseball Varsity\nAtrisco Heritage Academ
 y Baseball Varsity\n\nSchools:\nAtrisco Heritage Academy\nCibola High\n\nL
 ocation:\nAtrisco Heritage Academy\n\n
URL;VALUE=URI:http://dnhs.albuquerquenmus.tandem.co/index.php?type=view&ac
 tion=event&id=99149
CREATED:20220111T155536Z
LAST-MODIFIED:20220121T191357Z
UID:event-99149-albuquerquenmus@intand.com
END:VEVENT
END:VCALENDAR
