BEGIN:VCALENDAR
VERSION:2.0
PRODID:-//Intand Corporation//Tandem//EN
METHOD:PUBLISH
BEGIN:VEVENT
DTSTAMP:20260419T230838Z
DTSTART:20220310T223000Z
DTEND:20220311T003000Z
TRANSP:TRANSPARENT
PRIORITY:0
SUMMARY:Baseball\, Varsity: WMHS @ AHA
LOCATION:Atrisco Heritage Academy
DESCRIPTION:Groups:\nWest Mesa High Baseball Boys Varsity\nAtrisco Heritag
 e Academy Baseball Varsity\n\nSchools:\nAtrisco Heritage Academy\nWest Mes
 a High\n\nLocation:\nAtrisco Heritage Academy\n\n
URL;VALUE=URI:http://dnhs.albuquerquenmus.tandem.co/index.php?type=view&ac
 tion=event&id=99137
CREATED:20220111T152614Z
LAST-MODIFIED:20220121T175030Z
UID:event-99137-albuquerquenmus@intand.com
END:VEVENT
END:VCALENDAR
