BEGIN:VCALENDAR
VERSION:2.0
PRODID:-//Intand Corporation//Tandem//EN
METHOD:PUBLISH
BEGIN:VEVENT
DTSTAMP:20260419T230937Z
DTSTART:20220413T220000Z
DTEND:20220414T000000Z
TRANSP:TRANSPARENT
PRIORITY:0
SUMMARY:Baseball\, Varsity: AHS @ SHS
LOCATION:Sandia High
DESCRIPTION:Groups:\nAlbuquerque High Baseball Varsity\nSandia High Baseba
 ll Boys Varsity\n\nSchools:\nSandia High\nAlbuquerque High\n\nLocation:\nS
 andia High\n\n
URL;VALUE=URI:http://dnhs.albuquerquenmus.tandem.co/index.php?type=view&ac
 tion=event&id=99121
CREATED:20220111T151146Z
LAST-MODIFIED:20220111T151146Z
UID:event-99121-albuquerquenmus@intand.com
END:VEVENT
END:VCALENDAR
