BEGIN:VCALENDAR
VERSION:2.0
PRODID:-//Intand Corporation//Tandem//EN
METHOD:PUBLISH
BEGIN:VEVENT
DTSTAMP:20260419T230921Z
DTSTART:20220226T190000Z
DTEND:20220226T203000Z
TRANSP:TRANSPARENT
PRIORITY:0
SUMMARY:[Cancelled] Softball\, JV: St Pius at Valley
LOCATION:Valley High
DESCRIPTION:Groups:\nValley High Softball JV\n\nSchools:\nSt. Pius X High\
 nValley High\n\nLocation:\nValley High\n\n
URL;VALUE=URI:http://dnhs.albuquerquenmus.tandem.co/index.php?type=view&ac
 tion=event&id=99076
CREATED:20220110T203050Z
LAST-MODIFIED:20220121T194108Z
UID:event-99076-albuquerquenmus@intand.com
END:VEVENT
END:VCALENDAR
