BEGIN:VCALENDAR
VERSION:2.0
PRODID:-//Intand Corporation//Tandem//EN
METHOD:PUBLISH
BEGIN:VEVENT
DTSTAMP:20260419T231143Z
DTSTART:20220402T190000Z
DTEND:20220402T210000Z
TRANSP:TRANSPARENT
PRIORITY:0
SUMMARY:Softball\, Varsity: Farmington at Sandia
LOCATION:Sandia High
DESCRIPTION:Groups:\nSandia High Softball Varsity\n\nSchools:\nSandia High
 \nFarmington High\n\nLocation:\nSandia High\n\n
URL;VALUE=URI:http://dnhs.albuquerquenmus.tandem.co/index.php?type=view&ac
 tion=event&id=99046
CREATED:20220110T195823Z
LAST-MODIFIED:20220304T171856Z
UID:event-99046-albuquerquenmus@intand.com
END:VEVENT
END:VCALENDAR
