BEGIN:VCALENDAR
VERSION:2.0
PRODID:-//Intand Corporation//Tandem//EN
METHOD:PUBLISH
BEGIN:VEVENT
DTSTAMP:20260419T231130Z
DTSTART:20220406T233000Z
DTEND:20220407T013000Z
TRANSP:TRANSPARENT
PRIORITY:0
SUMMARY:Softball\, JV: SF Capitol at Rio Grande
LOCATION:Rio Grande High
DESCRIPTION:Groups:\nRio Grande High Softball JV\n\nSchools:\nSanta Fe Cap
 ital High\nRio Grande High\n\nLocation:\nRio Grande High\n\n
URL;VALUE=URI:http://dnhs.albuquerquenmus.tandem.co/index.php?type=view&ac
 tion=event&id=99038
CREATED:20220110T194454Z
LAST-MODIFIED:20220331T172601Z
UID:event-99038-albuquerquenmus@intand.com
END:VEVENT
END:VCALENDAR
