BEGIN:VCALENDAR
VERSION:2.0
PRODID:-//Intand Corporation//Tandem//EN
METHOD:PUBLISH
BEGIN:VEVENT
DTSTAMP:20260419T231118Z
DTSTART:20220302T223000Z
DTEND:20220303T003000Z
TRANSP:TRANSPARENT
PRIORITY:0
SUMMARY:Softball\, JV: Sandia Prep HS @ RGHS
LOCATION:Rio Grande High
DESCRIPTION:Groups:\nRio Grande High Softball JV\n\nSchools:\nRio Grande H
 igh\nSandia Preparatory School\n\nLocation:\nRio Grande High\n\n
URL;VALUE=URI:http://dnhs.albuquerquenmus.tandem.co/index.php?type=view&ac
 tion=event&id=99032
CREATED:20220110T193956Z
LAST-MODIFIED:20220120T223703Z
UID:event-99032-albuquerquenmus@intand.com
END:VEVENT
END:VCALENDAR
