BEGIN:VCALENDAR
VERSION:2.0
PRODID:-//Intand Corporation//Tandem//EN
METHOD:PUBLISH
BEGIN:VEVENT
DTSTAMP:20260419T230931Z
DTSTART:20220409T200000Z
DTEND:20220409T220000Z
TRANSP:TRANSPARENT
PRIORITY:0
SUMMARY:[Cancelled] Softball\, JV: Piedra Vista at La Cueva at Eldorado
LOCATION:Eldorado High
DESCRIPTION:Groups:\nLa Cueva High Softball JV\n\nSchools:\nLa Cueva High\
 nEldorado High\nPiedra Vista High\n\nLocation:\nEldorado High\n\n
URL;VALUE=URI:http://dnhs.albuquerquenmus.tandem.co/index.php?type=view&ac
 tion=event&id=98991
CREATED:20220110T173534Z
LAST-MODIFIED:20220407T165603Z
UID:event-98991-albuquerquenmus@intand.com
END:VEVENT
END:VCALENDAR
