BEGIN:VCALENDAR
VERSION:2.0
PRODID:-//Intand Corporation//Tandem//EN
METHOD:PUBLISH
BEGIN:VEVENT
DTSTAMP:20260419T230822Z
DTSTART:20220402T160000Z
DTEND:20220402T180000Z
TRANSP:TRANSPARENT
PRIORITY:0
SUMMARY:[Cancelled] Softball\, Varsity: LCHS @ WMHS
LOCATION:West Mesa High
DESCRIPTION:Groups:\nLa Cueva High Softball Varsity\nWest Mesa High Softba
 ll Varsity\n\nSchools:\nLa Cueva High\nWest Mesa High\n\nLocation:\nWest M
 esa High\n\n
URL;VALUE=URI:http://dnhs.albuquerquenmus.tandem.co/index.php?type=view&ac
 tion=event&id=98976
CREATED:20220110T172348Z
LAST-MODIFIED:20220322T173624Z
UID:event-98976-albuquerquenmus@intand.com
END:VEVENT
END:VCALENDAR
