BEGIN:VCALENDAR
VERSION:2.0
PRODID:-//Intand Corporation//Tandem//EN
METHOD:PUBLISH
BEGIN:VEVENT
DTSTAMP:20260419T230931Z
DTSTART:20220301T230000Z
DTEND:20220302T010000Z
TRANSP:TRANSPARENT
PRIORITY:0
SUMMARY:Softball\, Varsity: WMHS @ HHS
LOCATION:Highland High
DESCRIPTION:Groups:\nWest Mesa High Softball Varsity\nHighland High Softba
 ll Varsity\n\nSchools:\nHighland High\nWest Mesa High\n\nLocation:\nHighla
 nd High\n\n
URL;VALUE=URI:http://dnhs.albuquerquenmus.tandem.co/index.php?type=view&ac
 tion=event&id=98955
CREATED:20220110T170543Z
LAST-MODIFIED:20220120T223554Z
UID:event-98955-albuquerquenmus@intand.com
END:VEVENT
END:VCALENDAR
