BEGIN:VCALENDAR
VERSION:2.0
PRODID:-//Intand Corporation//Tandem//EN
METHOD:PUBLISH
BEGIN:VEVENT
DTSTAMP:20260419T230840Z
DTSTART:20220423T160000Z
DTEND:20220423T180000Z
TRANSP:TRANSPARENT
PRIORITY:0
SUMMARY:Softball\, Varsity: EHS v WMHS
LOCATION:Eldorado High
DESCRIPTION:Groups:\nEldorado High Softball Varsity\nWest Mesa High Softba
 ll Varsity\n\nSchools:\nEldorado High\nWest Mesa High\n\nLocation:\nEldora
 do High\n\n
URL;VALUE=URI:http://dnhs.albuquerquenmus.tandem.co/index.php?type=view&ac
 tion=event&id=98933
CREATED:20220110T155103Z
LAST-MODIFIED:20220110T155103Z
UID:event-98933-albuquerquenmus@intand.com
END:VEVENT
END:VCALENDAR
