BEGIN:VCALENDAR
VERSION:2.0
PRODID:-//Intand Corporation//Tandem//EN
METHOD:PUBLISH
BEGIN:VEVENT
DTSTAMP:20260419T230837Z
DTSTART:20220429T220000Z
DTEND:20220430T000000Z
TRANSP:TRANSPARENT
PRIORITY:0
SUMMARY:Softball\, Varsity: VVHS vs Rio Rancho HS
LOCATION:Volcano Vista High
DESCRIPTION:Groups:\nVolcano Vista High Softball Varsity\n\nSchools:\nVolc
 ano Vista High\nRio Rancho High School\n\nLocation:\nVolcano Vista High\n\
 n
URL;VALUE=URI:http://dnhs.albuquerquenmus.tandem.co/index.php?type=view&ac
 tion=event&id=98904
CREATED:20220107T210604Z
LAST-MODIFIED:20220107T210604Z
UID:event-98904-albuquerquenmus@intand.com
END:VEVENT
END:VCALENDAR
