BEGIN:VCALENDAR
VERSION:2.0
PRODID:-//Intand Corporation//Tandem//EN
METHOD:PUBLISH
BEGIN:VEVENT
DTSTAMP:20260419T230953Z
DTSTART:20220408T220000Z
DTEND:20220408T233000Z
TRANSP:TRANSPARENT
PRIORITY:0
SUMMARY:[Cancelled] Softball\, JV: DNHS vs Hope HS
LOCATION:Del Norte High
DESCRIPTION:Groups:\nDel Norte High Softball JV\n\nSchools:\nHope Christia
 n\nDel Norte High\n\nLocation:\nDel Norte High\n\n
URL;VALUE=URI:http://dnhs.albuquerquenmus.tandem.co/index.php?type=view&ac
 tion=event&id=98884
CREATED:20220107T194817Z
LAST-MODIFIED:20220209T201919Z
UID:event-98884-albuquerquenmus@intand.com
END:VEVENT
END:VCALENDAR
