BEGIN:VCALENDAR
VERSION:2.0
PRODID:-//Intand Corporation//Tandem//EN
METHOD:PUBLISH
BEGIN:VEVENT
DTSTAMP:20260419T231026Z
DTSTART:20220326T160000Z
DTEND:20220326T173000Z
TRANSP:TRANSPARENT
PRIORITY:0
SUMMARY:[Cancelled] Softball\, JV: DNHS vs RGHS
LOCATION:Del Norte High
DESCRIPTION:Groups:\nDel Norte High Softball JV\nRio Grande High Softball 
 JV\n\nSchools:\nRio Grande High\nDel Norte High\n\nLocation:\nDel Norte Hi
 gh\n\n
URL;VALUE=URI:http://dnhs.albuquerquenmus.tandem.co/index.php?type=view&ac
 tion=event&id=98880
CREATED:20220107T194316Z
LAST-MODIFIED:20220209T201830Z
UID:event-98880-albuquerquenmus@intand.com
END:VEVENT
END:VCALENDAR
