BEGIN:VCALENDAR
VERSION:2.0
PRODID:-//Intand Corporation//Tandem//EN
METHOD:PUBLISH
BEGIN:VEVENT
DTSTAMP:20260419T230948Z
DTSTART:20220419T220000Z
DTEND:20220420T000000Z
TRANSP:TRANSPARENT
PRIORITY:0
SUMMARY:Softball\, JV: CHS vs Cleveland HS
LOCATION:Cibola High
DESCRIPTION:Groups:\nCibola High Softball JV\n\nSchools:\nV Sue Cleveland 
 High School\nCibola High\n\nLocation:\nCibola High\n\n
URL;VALUE=URI:http://dnhs.albuquerquenmus.tandem.co/index.php?type=view&ac
 tion=event&id=98853
CREATED:20220107T180720Z
LAST-MODIFIED:20220107T180720Z
UID:event-98853-albuquerquenmus@intand.com
END:VEVENT
END:VCALENDAR
