BEGIN:VCALENDAR
VERSION:2.0
PRODID:-//Intand Corporation//Tandem//EN
METHOD:PUBLISH
BEGIN:VEVENT
DTSTAMP:20260419T231011Z
DTSTART:20220305T170000Z
DTEND:20220305T190000Z
TRANSP:TRANSPARENT
PRIORITY:0
SUMMARY:Softball\, Varsity: CHS @ LCHS
LOCATION:La Cueva High
DESCRIPTION:Groups:\nCibola High Softball Varsity\nLa Cueva High Softball 
 Varsity\n\nSchools:\nCibola High\nLa Cueva High\n\nLocation:\nLa Cueva Hig
 h\n\n
URL;VALUE=URI:http://dnhs.albuquerquenmus.tandem.co/index.php?type=view&ac
 tion=event&id=98826
CREATED:20220107T170629Z
LAST-MODIFIED:20220107T170629Z
UID:event-98826-albuquerquenmus@intand.com
END:VEVENT
END:VCALENDAR
