BEGIN:VCALENDAR
VERSION:2.0
PRODID:-//Intand Corporation//Tandem//EN
METHOD:PUBLISH
BEGIN:VEVENT
DTSTAMP:20260420T031554Z
DTSTART:20220301T223000Z
DTEND:20220302T003000Z
TRANSP:TRANSPARENT
PRIORITY:0
SUMMARY:Softball\, Varsity: AHA @ SHS
LOCATION:Sandia High
DESCRIPTION:Groups:\nAtrisco Heritage Academy Softball Varsity\nSandia Hig
 h Softball Varsity\n\nSchools:\nAtrisco Heritage Academy\nSandia High\n\nL
 ocation:\nSandia High\n\n
URL;VALUE=URI:http://dnhs.albuquerquenmus.tandem.co/index.php?type=view&ac
 tion=event&id=98794
CREATED:20220107T160412Z
LAST-MODIFIED:20220107T160412Z
UID:event-98794-albuquerquenmus@intand.com
END:VEVENT
END:VCALENDAR
