BEGIN:VCALENDAR
VERSION:2.0
PRODID:-//Intand Corporation//Tandem//EN
METHOD:PUBLISH
BEGIN:VEVENT
DTSTAMP:20260419T231110Z
DTSTART:20220225T003000Z
DTEND:20220225T020000Z
TRANSP:TRANSPARENT
PRIORITY:0
SUMMARY:[Cancelled] Softball\, JV: DNHS @ AHA
LOCATION:Atrisco Heritage Academy
DESCRIPTION:Groups:\nDel Norte High Softball JV\nAtrisco Heritage Academy 
 Softball JV\n\nSchools:\nAtrisco Heritage Academy\nDel Norte High\n\nLocat
 ion:\nAtrisco Heritage Academy\n\n
URL;VALUE=URI:http://dnhs.albuquerquenmus.tandem.co/index.php?type=view&ac
 tion=event&id=98793
CREATED:20220107T160259Z
LAST-MODIFIED:20220209T201654Z
UID:event-98793-albuquerquenmus@intand.com
END:VEVENT
END:VCALENDAR
