BEGIN:VCALENDAR
VERSION:2.0
PRODID:-//Intand Corporation//Tandem//EN
METHOD:PUBLISH
BEGIN:VEVENT
DTSTAMP:20260419T230919Z
DTSTART:20220406T233000Z
DTEND:20220407T013000Z
TRANSP:TRANSPARENT
PRIORITY:0
SUMMARY:[Cancelled] Softball\, JV: AHS vs EHS
LOCATION:Albuquerque High
DESCRIPTION:Groups:\nEldorado High Softball JV\nAlbuquerque High Softball 
 JV\n\nSchools:\nAlbuquerque High\nEldorado High\n\nLocation:\nAlbuquerque 
 High\n\n
URL;VALUE=URI:http://dnhs.albuquerquenmus.tandem.co/index.php?type=view&ac
 tion=event&id=98780
CREATED:20220107T154509Z
LAST-MODIFIED:20220211T204936Z
UID:event-98780-albuquerquenmus@intand.com
END:VEVENT
END:VCALENDAR
