BEGIN:VCALENDAR
VERSION:2.0
PRODID:-//Intand Corporation//Tandem//EN
METHOD:PUBLISH
BEGIN:VEVENT
DTSTAMP:20260419T230823Z
DTSTART:20211026T213000Z
DTEND:20211026T233000Z
TRANSP:TRANSPARENT
PRIORITY:0
SUMMARY:Soccer\, Varsity-G: Clovis @ VVHS
LOCATION:Volcano Vista High
DESCRIPTION:Groups:\nVolcano Vista High Soccer Boys Varsity\n\nSchools:\nV
 olcano Vista High\nClovis High\n\nLocation:\nVolcano Vista High\n\n
URL;VALUE=URI:http://dnhs.albuquerquenmus.tandem.co/index.php?type=view&ac
 tion=event&id=98253
CREATED:20211025T150718Z
LAST-MODIFIED:20211025T150718Z
UID:event-98253-albuquerquenmus@intand.com
END:VEVENT
END:VCALENDAR
