BEGIN:VCALENDAR
VERSION:2.0
PRODID:-//Intand Corporation//Tandem//EN
METHOD:PUBLISH
BEGIN:VEVENT
DTSTAMP:20260419T230828Z
DTSTART:20210918T170000Z
DTEND:20210918T183000Z
TRANSP:TRANSPARENT
PRIORITY:0
SUMMARY:[Cancelled] Soccer\, Varsity-G: DNHS @ HHS
LOCATION:Highland High
DESCRIPTION:Groups:\nHighland High Soccer Girls Varsity\nDel Norte High So
 ccer Girls Varsity\n\nSchools:\nHighland High\nDel Norte High\n\nLocation:
 \nHighland High\n\n
URL;VALUE=URI:http://dnhs.albuquerquenmus.tandem.co/index.php?type=view&ac
 tion=event&id=96892
CREATED:19700101T000000Z
LAST-MODIFIED:20211006T143905Z
UID:event-96892-albuquerquenmus@intand.com
END:VEVENT
END:VCALENDAR
