BEGIN:VCALENDAR
VERSION:2.0
PRODID:-//Intand Corporation//Tandem//EN
METHOD:PUBLISH
BEGIN:VEVENT
DTSTAMP:20260419T230842Z
DTSTART:20211011T231500Z
DTEND:20211012T004500Z
TRANSP:TRANSPARENT
PRIORITY:0
SUMMARY:Soccer\, JV-G: CHS @ RGHS 
LOCATION:Rio Grande High
DESCRIPTION:Groups:\nCibola High Soccer Girls JV\nRio Grande High Soccer G
 irls JV\n\nSchools:\nCibola High\nRio Grande High\n\nLocation:\nRio Grande
  High\n\n
URL;VALUE=URI:http://dnhs.albuquerquenmus.tandem.co/index.php?type=view&ac
 tion=event&id=96785
CREATED:20210909T044810Z
LAST-MODIFIED:20210909T044810Z
UID:event-96785-albuquerquenmus@intand.com
END:VEVENT
END:VCALENDAR
