BEGIN:VCALENDAR
VERSION:2.0
PRODID:-//Intand Corporation//Tandem//EN
METHOD:PUBLISH
BEGIN:VEVENT
DTSTAMP:20260419T230930Z
DTSTART:20211004T231500Z
DTEND:20211005T004500Z
TRANSP:TRANSPARENT
PRIORITY:0
SUMMARY:Soccer\, JV-B: CHS @ AHS 
LOCATION:Albuquerque High
DESCRIPTION:Groups:\nCibola High Soccer Boys JV\nAlbuquerque High Soccer B
 oys JV\n\nSchools:\nCibola High\nAlbuquerque High\n\nLocation:\nAlbuquerqu
 e High\n\n
URL;VALUE=URI:http://dnhs.albuquerquenmus.tandem.co/index.php?type=view&ac
 tion=event&id=96774
CREATED:20210909T042747Z
LAST-MODIFIED:20210909T042747Z
UID:event-96774-albuquerquenmus@intand.com
END:VEVENT
END:VCALENDAR
