BEGIN:VCALENDAR
VERSION:2.0
PRODID:-//Intand Corporation//Tandem//EN
METHOD:PUBLISH
BEGIN:VEVENT
DTSTAMP:20260419T230809Z
DTSTART:20210913T231500Z
DTEND:20210914T004500Z
TRANSP:TRANSPARENT
PRIORITY:0
SUMMARY:[Cancelled] Soccer\, JV-B: DNHS @ RGHS
LOCATION:Rio Grande High
DESCRIPTION:Groups:\nDel Norte High Soccer Boys JV\nRio Grande High Soccer
  Boys JV\n\nSchools:\nRio Grande High\nDel Norte High\n\nLocation:\nRio Gr
 ande High\n\n
URL;VALUE=URI:http://dnhs.albuquerquenmus.tandem.co/index.php?type=view&ac
 tion=event&id=96752
CREATED:20210907T025723Z
LAST-MODIFIED:20210910T182752Z
UID:event-96752-albuquerquenmus@intand.com
END:VEVENT
END:VCALENDAR
