BEGIN:VCALENDAR
VERSION:2.0
PRODID:-//Intand Corporation//Tandem//EN
METHOD:PUBLISH
BEGIN:VEVENT
DTSTAMP:20260419T231147Z
DTSTART:20210901T224500Z
DTEND:20210902T004500Z
TRANSP:TRANSPARENT
PRIORITY:0
SUMMARY:Soccer\, Varsity-B: Albuquerque Metro Championships\; HHS vs EHS
LOCATION:APS Soccer Complex
DESCRIPTION:Groups:\nHighland High Soccer Boys Varsity\nEldorado High Socc
 er Boys Varsity\n\nSchools:\nAPS Athletic Department\nEldorado High\nHighl
 and High\n\nLocation:\nAPS Soccer Complex\n\n
URL;VALUE=URI:http://dnhs.albuquerquenmus.tandem.co/index.php?type=view&ac
 tion=event&id=96657
CREATED:20210829T192911Z
LAST-MODIFIED:20210829T195428Z
UID:event-96657-albuquerquenmus@intand.com
END:VEVENT
END:VCALENDAR
