BEGIN:VCALENDAR
VERSION:2.0
PRODID:-//Intand Corporation//Tandem//EN
METHOD:PUBLISH
BEGIN:VEVENT
DTSTAMP:20260419T231120Z
DTSTART:20210831T223000Z
DTEND:20210901T003000Z
TRANSP:TRANSPARENT
PRIORITY:0
SUMMARY:Soccer\, Varsity-B: Albuquerque Metro Championships\; CHS vs MHS
LOCATION:APS Soccer Complex
DESCRIPTION:Groups:\nManzano High Soccer Boys Varsity\nCibola High Soccer 
 Boys Varsity\n\nSchools:\nAPS Athletic Department\nCibola High\nManzano Hi
 gh\n\nLocation:\nAPS Soccer Complex\n\n
URL;VALUE=URI:http://dnhs.albuquerquenmus.tandem.co/index.php?type=view&ac
 tion=event&id=96652
CREATED:20210829T191946Z
LAST-MODIFIED:20210829T194859Z
UID:event-96652-albuquerquenmus@intand.com
END:VEVENT
END:VCALENDAR
