BEGIN:VCALENDAR
VERSION:2.0
PRODID:-//Intand Corporation//Tandem//EN
METHOD:PUBLISH
BEGIN:VEVENT
DTSTAMP:20260419T231125Z
DTSTART:20210914T231500Z
DTEND:20210915T004500Z
TRANSP:TRANSPARENT
PRIORITY:0
SUMMARY:Soccer\, JV-B: St. Pius @ VVHS
LOCATION:Volcano Vista High
DESCRIPTION:Groups:\nVolcano Vista High Soccer Boys JV\n\nSchools:\nSt. Pi
 us X High\nVolcano Vista High\n\nLocation:\nVolcano Vista High\n\n
URL;VALUE=URI:http://dnhs.albuquerquenmus.tandem.co/index.php?type=view&ac
 tion=event&id=96650
CREATED:20210827T193417Z
LAST-MODIFIED:20210906T193314Z
UID:event-96650-albuquerquenmus@intand.com
END:VEVENT
END:VCALENDAR
